View In:
ArcGIS JavaScript
ArcGIS Online Map Viewer
ArcGIS Earth
Service Description: Ayres Associates provided Waushara County, Wisconsin, with digital, 4-band orthoimagery services in 2025 as part of WROC. The aerial imagery was collected on April 6th, 12th, 13th, 16th, 26th and May 4th using an UltraCam Eagle 4.1 sensor at 7.25 cm GSD mounted in a fixed-wing aircraft. Aerial imagery was collected to support 0.25 foot ground sample distance (GSD) orthoimagery at 1"=50' map scale. The 3-inch pixel orthoimagery was produced to meet or exceed 0.66 foot RMSEH according to ASPRS Positional Accuracy Standards for Digital Geospatial Data 2024. Resultant orthoimagery was rectified to a DEM created from existing lidar. Orthoimagery was delivered in GeoTiff and MrSID tiles and a project-wide MrSID mosaic. The orthoimagery was delivered according to a PLSS quarter section tile schematic. The project area covers approximately 637 square miles. Supplemental Information: The Wisconsin Regional Orthoimagery Consortium (WROC) is a multi-entity group of county members and partners led by regional planning commissions (RPCs) and WROC representatives from Ayres Associates. The goal of the consortium is to build and sustain a multi-participant program to acquire digital orthoimagery and elevation data throughout Wisconsin. Orthoimagery was collected for Waushara County in 2025 to provide consistent deliverable products and accuracy standards for each of the participating entities.
Name: Imagery/Waushara_Co_2025_sid
Description: Ayres Associates provided Waushara County, Wisconsin, with digital, 4-band orthoimagery services in 2025 as part of WROC. The aerial imagery was collected on April 6th, 12th, 13th, 16th, 26th and May 4th using an UltraCam Eagle 4.1 sensor at 7.25 cm GSD mounted in a fixed-wing aircraft. Aerial imagery was collected to support 0.25 foot ground sample distance (GSD) orthoimagery at 1"=50' map scale. The 3-inch pixel orthoimagery was produced to meet or exceed 0.66 foot RMSEH according to ASPRS Positional Accuracy Standards for Digital Geospatial Data 2024. Resultant orthoimagery was rectified to a DEM created from existing lidar. Orthoimagery was delivered in GeoTiff and MrSID tiles and a project-wide MrSID mosaic. The orthoimagery was delivered according to a PLSS quarter section tile schematic. The project area covers approximately 637 square miles. Supplemental Information: The Wisconsin Regional Orthoimagery Consortium (WROC) is a multi-entity group of county members and partners led by regional planning commissions (RPCs) and WROC representatives from Ayres Associates. The goal of the consortium is to build and sustain a multi-participant program to acquire digital orthoimagery and elevation data throughout Wisconsin. Orthoimagery was collected for Waushara County in 2025 to provide consistent deliverable products and accuracy standards for each of the participating entities.
Single Fused Map Cache: false
Extent:
XMin: 299620.0
YMin: 99379.75
XMax: 488080.25
YMax: 196620.0
Spatial Reference: 7644
(7644)
LatestVCSWkid(0)
Initial Extent:
XMin: 299620.0
YMin: 99379.75
XMax: 488080.25
YMax: 196620.0
Spatial Reference: 7644
(7644)
LatestVCSWkid(0)
Full Extent:
XMin: 299620.0
YMin: 99379.75
XMax: 488080.25
YMax: 196620.0
Spatial Reference: 7644
(7644)
LatestVCSWkid(0)
Pixel Size X: 0.25
Pixel Size Y: 0.25
Band Count: 5
Pixel Type: U8
RasterFunction Infos: {"rasterFunctionInfos": [{
"name": "None",
"description": "",
"help": ""
}]}
Mensuration Capabilities: Basic
Inspection Capabilities:
Has Histograms: true
Has Colormap: false
Has Multi Dimensions : false
Rendering Rule:
Min Scale: 0
Max Scale: 0
Copyright Text:
Service Data Type: esriImageServiceDataTypeGeneric
Min Values: 0, 0, 0, 0, 0
Max Values: 248, 232, 226, 233, 255
Mean Values: 110.72065412186, 107.21460573477, 94.696460573477, 137.89538530466, 247.6789874552
Standard Deviation Values: 40.395370887985, 35.684576223081, 31.245751338698, 33.836842821244, 38.896307184549
Object ID Field:
Fields:
None
Default Mosaic Method: Center
Allowed Mosaic Methods:
SortField:
SortValue: null
Mosaic Operator: First
Default Compression Quality: 75
Default Resampling Method: Bilinear
Max Record Count: null
Max Image Height: 4100
Max Image Width: 15000
Max Download Image Count: null
Max Mosaic Image Count: null
Allow Raster Function: true
Allow Copy: true
Allow Analysis: true
Allow Compute TiePoints: false
Supports Statistics: false
Supports Advanced Queries: false
Use StandardizedQueries: true
Raster Type Infos:
Name: Raster Dataset
Description: Supports all ArcGIS Raster Datasets
Help:
Has Raster Attribute Table: false
Edit Fields Info: null
Ownership Based AccessControl For Rasters: null
Child Resources:
Info
Histograms
Statistics
Key Properties
Legend
Raster Function Infos
Supported Operations:
Export Image
Identify
Measure
Compute Histograms
Compute Statistics Histograms
Get Samples
Compute Class Statistics
Query Boundary
Compute Pixel Location
Compute Angles
Validate
Project